Workbook

Sheet jisa調査検索
A1: 【使い方】 「検索キーワード▶」の右横の欄に検索するキーワードを入力してください。3行の全てのキーワードのデータを含む調査・レポートのリストが表示されます。 検索による絞り込みを解除する場合は、入力した検索キーワードをすべて消してください
A2: 検索キーワード▶
A3: 検索キーワード▶
A4: 検索キーワード▶
A5: 検索結果
A6: =COUNTIF(jisa調査!J:J,1)&"件" -> 0件 | B6: 調査・レポート名／リンク先 | C6: 調査時期 | D6: 掲載資料 | E6: WEB閲覧対象
A7: =IF(MAX(jisa調査!$K$2:$K$23)<ROW(M1),"",INDEX(jisa調査!K$2:K$23,MATCH(ROW(M1),jisa調査!$K$2:$K$23,0))) | B7: =HYPERLINK(IF(MAX(jisa調査!$K$2:$K$23)<ROW(A1),"",INDEX(jisa調査!F$2:F$23,MATCH(ROW(A1),jisa調査!$K$2:$K$23,0))),IF(MAX(jisa調査!$K$2:$K$23)<ROW(A1),"",INDEX(jisa調査!B$2:B$23,MATCH(ROW(A1),jisa調査!$K$2:$K$23,0)))) | C7: =IF(MAX(jisa調査!$K$2:$K$23)<ROW(B1),"",INDEX(jisa調査!C$2:C$23,MATCH(ROW(B1),jisa調査!$K$2:$K$23,0))) | D7: =IF(MAX(jisa調査!$K$2:$K$23)<ROW(C1),"",INDEX(jisa調査!D$2:D$23,MATCH(ROW(C1),jisa調査!$K$2:$K$23,0))) | E7: =IF(MAX(jisa調査!$K$2:$K$23)<ROW(D1),"",INDEX(jisa調査!E$2:E$23,MATCH(ROW(D1),jisa調査!$K$2:$K$23,0)))
A8: =IF(MAX(jisa調査!$K$2:$K$23)<ROW(M2),"",INDEX(jisa調査!K$2:K$23,MATCH(ROW(M2),jisa調査!$K$2:$K$23,0))) | B8: =HYPERLINK(IF(MAX(jisa調査!$K$2:$K$23)<ROW(A2),"",INDEX(jisa調査!F$2:F$23,MATCH(ROW(A2),jisa調査!$K$2:$K$23,0))),IF(MAX(jisa調査!$K$2:$K$23)<ROW(A2),"",INDEX(jisa調査!B$2:B$23,MATCH(ROW(A2),jisa調査!$K$2:$K$23,0)))) | C8: =IF(MAX(jisa調査!$K$2:$K$23)<ROW(B2),"",INDEX(jisa調査!C$2:C$23,MATCH(ROW(B2),jisa調査!$K$2:$K$23,0))) | D8: =IF(MAX(jisa調査!$K$2:$K$23)<ROW(C2),"",INDEX(jisa調査!D$2:D$23,MATCH(ROW(C2),jisa調査!$K$2:$K$23,0))) | E8: =IF(MAX(jisa調査!$K$2:$K$23)<ROW(D2),"",INDEX(jisa調査!E$2:E$23,MATCH(ROW(D2),jisa調査!$K$2:$K$23,0)))
A9: =IF(MAX(jisa調査!$K$2:$K$23)<ROW(M3),"",INDEX(jisa調査!K$2:K$23,MATCH(ROW(M3),jisa調査!$K$2:$K$23,0))) | B9: =HYPERLINK(IF(MAX(jisa調査!$K$2:$K$23)<ROW(A3),"",INDEX(jisa調査!F$2:F$23,MATCH(ROW(A3),jisa調査!$K$2:$K$23,0))),IF(MAX(jisa調査!$K$2:$K$23)<ROW(A3),"",INDEX(jisa調査!B$2:B$23,MATCH(ROW(A3),jisa調査!$K$2:$K$23,0)))) | C9: =IF(MAX(jisa調査!$K$2:$K$23)<ROW(B3),"",INDEX(jisa調査!C$2:C$23,MATCH(ROW(B3),jisa調査!$K$2:$K$23,0))) | D9: =IF(MAX(jisa調査!$K$2:$K$23)<ROW(C3),"",INDEX(jisa調査!D$2:D$23,MATCH(ROW(C3),jisa調査!$K$2:$K$23,0))) | E9: =IF(MAX(jisa調査!$K$2:$K$23)<ROW(D3),"",INDEX(jisa調査!E$2:E$23,MATCH(ROW(D3),jisa調査!$K$2:$K$23,0)))
A10: =IF(MAX(jisa調査!$K$2:$K$23)<ROW(M4),"",INDEX(jisa調査!K$2:K$23,MATCH(ROW(M4),jisa調査!$K$2:$K$23,0))) | B10: =HYPERLINK(IF(MAX(jisa調査!$K$2:$K$23)<ROW(A4),"",INDEX(jisa調査!F$2:F$23,MATCH(ROW(A4),jisa調査!$K$2:$K$23,0))),IF(MAX(jisa調査!$K$2:$K$23)<ROW(A4),"",INDEX(jisa調査!B$2:B$23,MATCH(ROW(A4),jisa調査!$K$2:$K$23,0)))) | C10: =IF(MAX(jisa調査!$K$2:$K$23)<ROW(B4),"",INDEX(jisa調査!C$2:C$23,MATCH(ROW(B4),jisa調査!$K$2:$K$23,0))) | D10: =IF(MAX(jisa調査!$K$2:$K$23)<ROW(C4),"",INDEX(jisa調査!D$2:D$23,MATCH(ROW(C4),jisa調査!$K$2:$K$23,0))) | E10: =IF(MAX(jisa調査!$K$2:$K$23)<ROW(D4),"",INDEX(jisa調査!E$2:E$23,MATCH(ROW(D4),jisa調査!$K$2:$K$23,0)))
A11: =IF(MAX(jisa調査!$K$2:$K$23)<ROW(M5),"",INDEX(jisa調査!K$2:K$23,MATCH(ROW(M5),jisa調査!$K$2:$K$23,0))) | B11: =HYPERLINK(IF(MAX(jisa調査!$K$2:$K$23)<ROW(A5),"",INDEX(jisa調査!F$2:F$23,MATCH(ROW(A5),jisa調査!$K$2:$K$23,0))),IF(MAX(jisa調査!$K$2:$K$23)<ROW(A5),"",INDEX(jisa調査!B$2:B$23,MATCH(ROW(A5),jisa調査!$K$2:$K$23,0)))) | C11: =IF(MAX(jisa調査!$K$2:$K$23)<ROW(B5),"",INDEX(jisa調査!C$2:C$23,MATCH(ROW(B5),jisa調査!$K$2:$K$23,0))) | D11: =IF(MAX(jisa調査!$K$2:$K$23)<ROW(C5),"",INDEX(jisa調査!D$2:D$23,MATCH(ROW(C5),jisa調査!$K$2:$K$23,0))) | E11: =IF(MAX(jisa調査!$K$2:$K$23)<ROW(D5),"",INDEX(jisa調査!E$2:E$23,MATCH(ROW(D5),jisa調査!$K$2:$K$23,0)))
A12: =IF(MAX(jisa調査!$K$2:$K$23)<ROW(M6),"",INDEX(jisa調査!K$2:K$23,MATCH(ROW(M6),jisa調査!$K$2:$K$23,0))) | B12: =HYPERLINK(IF(MAX(jisa調査!$K$2:$K$23)<ROW(A6),"",INDEX(jisa調査!F$2:F$23,MATCH(ROW(A6),jisa調査!$K$2:$K$23,0))),IF(MAX(jisa調査!$K$2:$K$23)<ROW(A6),"",INDEX(jisa調査!B$2:B$23,MATCH(ROW(A6),jisa調査!$K$2:$K$23,0)))) | C12: =IF(MAX(jisa調査!$K$2:$K$23)<ROW(B6),"",INDEX(jisa調査!C$2:C$23,MATCH(ROW(B6),jisa調査!$K$2:$K$23,0))) | D12: =IF(MAX(jisa調査!$K$2:$K$23)<ROW(C6),"",INDEX(jisa調査!D$2:D$23,MATCH(ROW(C6),jisa調査!$K$2:$K$23,0))) | E12: =IF(MAX(jisa調査!$K$2:$K$23)<ROW(D6),"",INDEX(jisa調査!E$2:E$23,MATCH(ROW(D6),jisa調査!$K$2:$K$23,0)))
A13: =IF(MAX(jisa調査!$K$2:$K$23)<ROW(M7),"",INDEX(jisa調査!K$2:K$23,MATCH(ROW(M7),jisa調査!$K$2:$K$23,0))) | B13: =HYPERLINK(IF(MAX(jisa調査!$K$2:$K$23)<ROW(A7),"",INDEX(jisa調査!F$2:F$23,MATCH(ROW(A7),jisa調査!$K$2:$K$23,0))),IF(MAX(jisa調査!$K$2:$K$23)<ROW(A7),"",INDEX(jisa調査!B$2:B$23,MATCH(ROW(A7),jisa調査!$K$2:$K$23,0)))) | C13: =IF(MAX(jisa調査!$K$2:$K$23)<ROW(B7),"",INDEX(jisa調査!C$2:C$23,MATCH(ROW(B7),jisa調査!$K$2:$K$23,0))) | D13: =IF(MAX(jisa調査!$K$2:$K$23)<ROW(C7),"",INDEX(jisa調査!D$2:D$23,MATCH(ROW(C7),jisa調査!$K$2:$K$23,0))) | E13: =IF(MAX(jisa調査!$K$2:$K$23)<ROW(D7),"",INDEX(jisa調査!E$2:E$23,MATCH(ROW(D7),jisa調査!$K$2:$K$23,0)))
A14: =IF(MAX(jisa調査!$K$2:$K$23)<ROW(M8),"",INDEX(jisa調査!K$2:K$23,MATCH(ROW(M8),jisa調査!$K$2:$K$23,0))) | B14: =HYPERLINK(IF(MAX(jisa調査!$K$2:$K$23)<ROW(A8),"",INDEX(jisa調査!F$2:F$23,MATCH(ROW(A8),jisa調査!$K$2:$K$23,0))),IF(MAX(jisa調査!$K$2:$K$23)<ROW(A8),"",INDEX(jisa調査!B$2:B$23,MATCH(ROW(A8),jisa調査!$K$2:$K$23,0)))) | C14: =IF(MAX(jisa調査!$K$2:$K$23)<ROW(B8),"",INDEX(jisa調査!C$2:C$23,MATCH(ROW(B8),jisa調査!$K$2:$K$23,0))) | D14: =IF(MAX(jisa調査!$K$2:$K$23)<ROW(C8),"",INDEX(jisa調査!D$2:D$23,MATCH(ROW(C8),jisa調査!$K$2:$K$23,0))) | E14: =IF(MAX(jisa調査!$K$2:$K$23)<ROW(D8),"",INDEX(jisa調査!E$2:E$23,MATCH(ROW(D8),jisa調査!$K$2:$K$23,0)))
A15: =IF(MAX(jisa調査!$K$2:$K$23)<ROW(M9),"",INDEX(jisa調査!K$2:K$23,MATCH(ROW(M9),jisa調査!$K$2:$K$23,0))) | B15: =HYPERLINK(IF(MAX(jisa調査!$K$2:$K$23)<ROW(A9),"",INDEX(jisa調査!F$2:F$23,MATCH(ROW(A9),jisa調査!$K$2:$K$23,0))),IF(MAX(jisa調査!$K$2:$K$23)<ROW(A9),"",INDEX(jisa調査!B$2:B$23,MATCH(ROW(A9),jisa調査!$K$2:$K$23,0)))) | C15: =IF(MAX(jisa調査!$K$2:$K$23)<ROW(B9),"",INDEX(jisa調査!C$2:C$23,MATCH(ROW(B9),jisa調査!$K$2:$K$23,0))) | D15: =IF(MAX(jisa調査!$K$2:$K$23)<ROW(C9),"",INDEX(jisa調査!D$2:D$23,MATCH(ROW(C9),jisa調査!$K$2:$K$23,0))) | E15: =IF(MAX(jisa調査!$K$2:$K$23)<ROW(D9),"",INDEX(jisa調査!E$2:E$23,MATCH(ROW(D9),jisa調査!$K$2:$K$23,0)))
A16: =IF(MAX(jisa調査!$K$2:$K$23)<ROW(M10),"",INDEX(jisa調査!K$2:K$23,MATCH(ROW(M10),jisa調査!$K$2:$K$23,0))) | B16: =HYPERLINK(IF(MAX(jisa調査!$K$2:$K$23)<ROW(A10),"",INDEX(jisa調査!F$2:F$23,MATCH(ROW(A10),jisa調査!$K$2:$K$23,0))),IF(MAX(jisa調査!$K$2:$K$23)<ROW(A10),"",INDEX(jisa調査!B$2:B$23,MATCH(ROW(A10),jisa調査!$K$2:$K$23,0)))) | C16: =IF(MAX(jisa調査!$K$2:$K$23)<ROW(B10),"",INDEX(jisa調査!C$2:C$23,MATCH(ROW(B10),jisa調査!$K$2:$K$23,0))) | D16: =IF(MAX(jisa調査!$K$2:$K$23)<ROW(C10),"",INDEX(jisa調査!D$2:D$23,MATCH(ROW(C10),jisa調査!$K$2:$K$23,0))) | E16: =IF(MAX(jisa調査!$K$2:$K$23)<ROW(D10),"",INDEX(jisa調査!E$2:E$23,MATCH(ROW(D10),jisa調査!$K$2:$K$23,0)))
A17: =IF(MAX(jisa調査!$K$2:$K$23)<ROW(M11),"",INDEX(jisa調査!K$2:K$23,MATCH(ROW(M11),jisa調査!$K$2:$K$23,0))) | B17: =HYPERLINK(IF(MAX(jisa調査!$K$2:$K$23)<ROW(A11),"",INDEX(jisa調査!F$2:F$23,MATCH(ROW(A11),jisa調査!$K$2:$K$23,0))),IF(MAX(jisa調査!$K$2:$K$23)<ROW(A11),"",INDEX(jisa調査!B$2:B$23,MATCH(ROW(A11),jisa調査!$K$2:$K$23,0)))) | C17: =IF(MAX(jisa調査!$K$2:$K$23)<ROW(B11),"",INDEX(jisa調査!C$2:C$23,MATCH(ROW(B11),jisa調査!$K$2:$K$23,0))) | D17: =IF(MAX(jisa調査!$K$2:$K$23)<ROW(C11),"",INDEX(jisa調査!D$2:D$23,MATCH(ROW(C11),jisa調査!$K$2:$K$23,0))) | E17: =IF(MAX(jisa調査!$K$2:$K$23)<ROW(D11),"",INDEX(jisa調査!E$2:E$23,MATCH(ROW(D11),jisa調査!$K$2:$K$23,0)))
A18: =IF(MAX(jisa調査!$K$2:$K$23)<ROW(M12),"",INDEX(jisa調査!K$2:K$23,MATCH(ROW(M12),jisa調査!$K$2:$K$23,0))) | B18: =HYPERLINK(IF(MAX(jisa調査!$K$2:$K$23)<ROW(A12),"",INDEX(jisa調査!F$2:F$23,MATCH(ROW(A12),jisa調査!$K$2:$K$23,0))),IF(MAX(jisa調査!$K$2:$K$23)<ROW(A12),"",INDEX(jisa調査!B$2:B$23,MATCH(ROW(A12),jisa調査!$K$2:$K$23,0)))) | C18: =IF(MAX(jisa調査!$K$2:$K$23)<ROW(B12),"",INDEX(jisa調査!C$2:C$23,MATCH(ROW(B12),jisa調査!$K$2:$K$23,0))) | D18: =IF(MAX(jisa調査!$K$2:$K$23)<ROW(C12),"",INDEX(jisa調査!D$2:D$23,MATCH(ROW(C12),jisa調査!$K$2:$K$23,0))) | E18: =IF(MAX(jisa調査!$K$2:$K$23)<ROW(D12),"",INDEX(jisa調査!E$2:E$23,MATCH(ROW(D12),jisa調査!$K$2:$K$23,0)))
... A28: =IF(MAX(jisa調査!$K$2:$K$23)<ROW(M22),"",INDEX(jisa調査!K$2:K$23,MATCH(ROW(M22),jisa調査!$K$2:$K$23,0))) | B28: =HYPERLINK(IF(MAX(jisa調査!$K$2:$K$23)<ROW(A22),"",INDEX(jisa調査!F$2:F$23,MATCH(ROW(A22),jisa調査!$K$2:$K$23,0))),IF(MAX(jisa調査!$K$2:$K$23)<ROW(A22),"",INDEX(jisa調査!B$2:B$23,MATCH(ROW(A22),jisa調査!$K$2:$K$23,0)))) | C28: =IF(MAX(jisa調査!$K$2:$K$23)<ROW(B22),"",INDEX(jisa調査!C$2:C$23,MATCH(ROW(B22),jisa調査!$K$2:$K$23,0))) | D28: =IF(MAX(jisa調査!$K$2:$K$23)<ROW(C22),"",INDEX(jisa調査!D$2:D$23,MATCH(ROW(C22),jisa調査!$K$2:$K$23,0))) | E28: =IF(MAX(jisa調査!$K$2:$K$23)<ROW(D22),"",INDEX(jisa調査!E$2:E$23,MATCH(ROW(D22),jisa調査!$K$2:$K$23,0)))

Sheet jisa調査
A1: キーワード | B1: 調査・レポート名 | C1: 調査時期 | D1: 掲載資料 | E1: WEB閲覧対象 | F1: URL | G1: 合致 | H1: 合致 | I1: 合致 | J1: 判定 | K1: 順位
A2: 会員アンケート 設問 貴社の直近年度の「a.売上高」「b.経常利益」「c.正規従業員数」をご記入下さい。※連結ではなく、貴社単体としてご回答下さい。 "1. 5億円未満 2. 5億～10億円未満 3. 10億～20億円未満 4. 20億～50億円未満 5. 50億～100億円未満 6. 100億～200億円未満 7. 200億～500億円未満 8. 500億円以上" "1. 赤字 2. 0～1,000万円未満 3. 1,000万～5,000万円未満 4. 5,000万～1億円未満 5. 1億～5億円未満 6. 5億～10億円未満 7. 10億～50億円未満 8. 50億～100億円未満 9. 100億円以上" "1. 50人未満 2. 50～100人未満 3. 100～200人未満 4. 200～500人未満 5. 500～1,000人未満 6. 1,000～2,000人未満 7. 2,000～5,000人未満 8. 5,000人以上" 貴社の主要顧客の業種として当てはまるものを全て選び、該当する番号に○印をつけて下さい。（○はいくつでも） "1. 農林漁業 2. 鉱業 3. 建設業 4. 製造業（コンピュータメーカ関係） 5. 製造業（コンピュータメーカ以外） 6. 電気・ガス・熱供給・水道業 7. 運輸業 8. 通信業 9. 卸売・小売・飲食店 10. 金融・保険業 11. 不動産業 12. 情報サービス業 13. その他サービス業 14. 公務その他" 貴社の事業のうち、最も割合の高い開発形態は何ですか。最も近いものを1つ選び、該当する番号に○印をつけて下さい。（○は１つだけ） "1. 自社サービス開発 2. 情報子会社･･･親会社などグループ企業向けのシステム企画/開発/運用業務が最も多い 3. 受託開発（元請け）･･･親会社などグループ企業以外からの委託業務（元請け）が最も多い 4. 受託開発（中間下請け）･･･元請けではなく、再委託（外注）している 5. 受託開発（最終下請け）･･･元請けではなく、再委託（外注）は（ほとんど）していない 6. その他（ ）" 貴社の主要顧客（売上ベース）の規模として最もよく当てはまるものを選び、該当する番号に○印をつけて下さい。（○は１つだけ） "1. 大企業（従業員数1,000人以上）が多い 2. 中堅企業（従業員数300人以上～1,000人未満）が多い 3. 中小企業（従業員数300人未満）が多い" 貴社では、昨年度（2020年度）と比べた今年度（2021年度）の業況をどのように見通していますか。以下のそれぞれの項目について、貴社の見解として該当する番号に○印をつけて下さい。 "A.全体 ①売上高 ②経常利益 B.全体のうち「特定顧客からの受託（開発・運用等）」 ①売上高 ②経常利益 C.全体のうち「自社パッケージ・ITサービス」 ①売上高 ②経常利益 D.全体のうち「顧客との共同事業」 ①売上高 ②経常利益 1. 大きく増加（+10%超） 2. やや増加（+5～+10%） 3. ほぼ横ばい（±5%以内） 4. やや減少（-5～-10%） 5. 大きく減少（-10%超）" 貴社では、昨年度（2020年度）と比べた来年度（2022年度）の業況をどのように見通していますか。以下のそれぞれの項目について、貴社の見解として該当する番号に○印をつけて下さい。 "A.全体 ①売上高 ②経常利益 B.全体のうち「特定顧客からの受託（開発・運用等）」 ①売上高 ②経常利益 C.全体のうち「自社パッケージ・ITサービス」 ①売上高 ②経常利益 D.全体のうち「顧客との共同事業」 ①売上高 ②経常利益 1. 大きく増加（+10%超） 2. やや増加（+5～+10%） 3. ほぼ横ばい（±5%以内） 4. やや減少（-5～-10%） 5. 大きく減少（-10%超）" 貴社では、昨年度（2020年度）と比べた今年度（2021年度）の自社への投資をどのように計画していますか。以下のそれぞれの項目について、該当する番号に○印をつけて下さい。 "1. 全体 2. 人材関連投資 3. 設備関連投資 4. IT関連投資 5. 研究開発関連投資 6. マーケティング関連投資 7. M&A 1. 大きく増加（+10%超） 2. やや増加（+5～+10%） 3. ほぼ横ばい（±5%以内） 4. やや減少（-5～-10%） 5. 大きく減少（-10%超）" 直近3年程度における貴社の課題認識として、以下のそれぞれの項目について、該当する番号に○印をつけて下さい。 "1. 継続的に発生していた案件が中止・延期・縮小されつつある 2. 新規案件が減少している 3. 自社のケイパビリティでは対応できない要望が増えている 4. 顧客ニーズの把握が薄れている 5. 営業機会が減少​している 6. 自社サービスや、営業力、技術力の競争優位性が低下している 7. 人材が不足している 8. その他（ ）" 以下の領域について、今後の見通しをどのようにお考えですか。 "1. 新規システムの受託開発 2. 既存システムの保守・運用 3. パッケージ/SaaSの販売 4. システムコンサルティング* 5. DX推進のコンサルティング* 6. 顧客との事業共創 (JV, レベニューシェアなど) 7. その他 (自由回答) 1. 現状売上があり、10年程度またはそれ以上安定した売上を保てると思う 2. 現状売上があり、5年程度は売上を保てると思うが、以降は減少するリスクを感じる 3. 現状売上があり、直近数年以内で減少するリスクを感じる 4. 現状売上がない 5. わからない" "システム開発/DX案件において、顧客のどういったニーズに応えるものが多いですか。 多い順に3つまでお答えください。" "1.新事業の創出 2.新製品・サービスの創出 2.販売・流通形態、サプライチェーンの刷新 3.プロセス改革による生産性向上 4.調査・研究・開発の期間短縮 5.意思決定の迅速化 6.働き方の改革 (勤務形態の多様化など) 7.その他【自由回答】" 近年の顧客のニーズに応えて成功するためには、何が重要な要素だと思いますか。重要度順に3つまでお答えください。 "1. 顧客のビジネスや業務の理解 2. 顧客のシステムやデータの理解 3. マーケットや外部環境の知見 4. 特定の技術・サービスの深い知見 5. 幅広いソリューション提案力 6. 開発スピード 7. 顧客の他部署などを巻き込む力 8. 自社側でもリスクを取る関係性 (請負契約や新規技術の導入など) 9. 作成するプロダクト/サービスについて、主体的にこだわって作りこむ姿勢 10. 機動的な人員アサインメント 11. その他" 顧客は以下のそれぞれの項目についてどの程度重視しているか、主要顧客の平均像を想定し、重要度順に3つまでお答えください。 "1. 製品・サービスの付加価値向上・差別化 2. 新規ビジネス創出による収益の拡大 3. 業務の効率化 4. 他社の破壊的イノベーションへの対抗 5. 環境/社会への負荷軽減 6. 社会課題の解決に向けた製品/サービスの開発 7. その他 【自由回答】" "貴社が受注する案件について、発注元の部署としてIT部門ないしそれ以外でどちらからの発注が多いでしょうか（件数ベース）。 ※発注の大元のユーザー企業の部署についてお答えください。例えば貴社が中間下請け・最終下請け企業の場合、元受け企業に対して発注したユーザー企業の部署をお答えください。" "1. IT部門がほとんどすべて 2. IT部門がやや多い 3. IT部門と事業部門が同程度 4. 事業部門がやや多い 5. 事業部門がほとんどすべて" Q12でお答えいただいた受注案件のうち、それぞれのここ数年（2～3年）の増減傾向を一つ選んでください。 "1. IT部門 2. 事業部門 1. 増加した 2. 変わらなかった 3. 減少した" 貴社が受注する案件について、受注することが多いプロセス（件数ベース）多い順に3つまで選んでください。また、それぞれのここ数年（2～3年）の増減傾向を一つ選んでください。 "1. 市場動向やユーザニーズの把握 2. ビジネスアイデア・ビジネスモデルの検討等のコンサルティング 3. PoC/技術検証 4. システム企画 5. システム開発または開発プロジェクト管理 6. システムの保守・運用 7. その他 1. 増加した 2. 変わらなかった 3. 減少した" "貴社の売上額のうち、 人月単価型*の契約の割合はどの程度ですか。 *成果ではなく費やす労働力に対して対価を請求する形式で、準委任または派遣型の契約をとり、成果へのコミットが不要な形式。" "1. ほぼ100% 2. 大半を占める 3. 半分程度 4. 数割程度 5. ほぼ0% 6. わからない" 近年3年程度において、人月単価型の契約割合は変化しましたか。 "1. かなり増えた 2. ある程度増えた 3. 変わらない 4. ある程度減った 5. かなり減った 6. わからない" 近年3年ほどにおいて、下記の案件リスクのうち、リスクの大きさや発生頻度が高まっていますか。 "1. 未経験技術の活用 2. 実践経験の浅いメンバーでのプロジェクト 3. 未経験領域のプロジェクト 4. 大型案件の実施 5. 請負型・レベニューシェアなどの、人月単価型*以外の契約形態 6. セキュリティやプライバシー上の懸念が大きいプロジェクト *成果ではなく費やす労働力に対して対価を請求する形式で、準委任または派遣型の契約をとり、成果へのコミットが不要な形式。 1. かなり増えた 2. ある程度増えた 3. 変わらない 4. ある程度減った 5. かなり減った 6. わからない" Q15の案件リスクについて、そうした案件の受注は回避するか、リスクがありながらも受注すべきと考えていますか。 "1. 未経験技術の活用 2. 実践経験の浅いメンバーでのプロジェクト 3. 未経験領域のプロジェクト 4. 大型案件の実施 5. 請負型・レベニューシェアなどの、人月単価型*以外の契約形態 6. セキュリティやプライバシー上の懸念が大きいプロジェクト *成果ではなく費やす労働力に対して対価を請求する形式で、準委任または派遣型の契約をとり、成果へのコミットが不要な形式。 1. 極力避ける 2. なるべく避ける 3. どちらともいえない 4. なるべく受注する 5. 極力受注する" "直近3年程度において、DX案件を推進するために、従来とは異なる再委託先に発注していますか。 している場合は、その理由も併せてお答えください。複数ある場合は、最も発注額ベースで影響が大きかった理由をお答えください。" "1. 従来と異なる委託先に発注していない 2. レガシーマイグレーション*力 3. クラウド対応力 4. パッケージの導入対応力 5. 先進技術力 (AI実装など) 6. 新しい開発手法の実践力 (デザインシンキング、アジャイル開発など) 7. ソリューションの選択肢の広さや、それらの組み合わせの提案力 8. 顧客のビジネスへの理解度 9. ビジネス構想力 10. 価格 11. その他 *古くなったシステムを新しいシステムに移行すること" 直近3年以内程度のDXに係る案件において、再委託先として、従来発注していなかった企業に新しく声をかける・ないし発注する機会は、3年前以前と比べて変化しましたか。 "1. かなり増えた 2. ある程度増えた 3. 変わらない 4. ある程度減った 5. かなり減った 6. わからない" "貴社にとっての競合として、近年脅威が高まった企業があればお答えください。 重要度順に3つまでお答えください。" "1. コンサルファーム 2. 顧客自身による内製部隊、または顧客の情報子会社 3. クラウドベンダ 4. 中小のソフトウェア開発企業 5. Techベンチャー企業 6. その他ITベンダ 7. デザインファーム 8. その他 (自由記述)" 近年3年ほどについて、貴社事業の利益率は変化していますか。 "1. 悪化している 2. やや悪化している 3. 変わらない 4. やや改善している 5. 改善している" 貴社では、４年前と比較して、どのような変化を感じていますか。それぞれの項目についてお答えください。 "1. 要件が定義された開発を請け負う従来的な案件 2. ユーザー企業自身が要件を明確にできない案件 3. クラウド環境を用いた案件 4. アジャイル開発等の新たな手法による開発案件 5. ノーコード・ローコードでの開発案件 6. その他新しい技術の活用を伴う案件（例えばAI、IoT、ブロックチェーンなど） 7. 顧客から受注できず、顧客自社内ないし情報子会社で内製することとなった案件 8. その他（ ） 1. 増加した 2. あまり変わらない 3. 減少した" "貴社としてのIT人材の調達動向について、当てはまるものをお答えください。 1. 社内で育成 (OJTを含む) 2. 社外からの採用" "1. 実施している 2. 実施していない 1. かなり増えた 2. ある程度増えた 3. 変わらない 4. ある程度減った 5. かなり減った 6. わからない" "Q20で社内で育成を実施していると回答した場合： 直近10年程度において、社内で育ったIT人材の離職者の増減をお答えください。" "1. かなり増えた 2. ある程度増えた 3. 変わらない 4. ある程度減った 5. かなり減った 6. わからない" 社内で育ったIT人材の離職を防ぐため、どのような対応を実施していますか。 "1. 高度IT人材の給与水準を上げている 2. IT関連の教育・自己研鑽の機会、時間、費用を豊富に与えている 3. 長時間労働にならないよう管理している 4. 働き方の柔軟さ(時間や服装など)を認めている 5. 設備投資(高性能PC購入費など)の予算を確保している 6. 経営方針として先進的な取組みの後押しを表明・発信している 7. 希望の仕事への参画を優遇している 8. コミュニティ形成や、表彰制度等、帰属・承認欲求を満たすような施策を行なっている 8. その他 9. 特に対応を行なっていない" "離職先として多いと思うものをお答えください。 あなたの周囲で把握されている範囲で構いません。" "1. コンサルファーム 2. WEBビジネス企業 3. その他ユーザー企業 4. クラウドベンダ 5. 中小のソフトウェア開発企業 6. Techベンチャー企業 7. その他ITベンダ 8. その他 (自由記述) 9. わからない " 顧客企業との関係性として、実施または強化したもの、今後強化していきたいものをそれぞれ上位3つまで選択してください。 "1. 人材交流 2. アジャイル等による共同でのサービス開発 3. 事業共創 4. 知財の共有 5. レベニューシェア(*) 6. JV(デジタル合弁企業)の設立 7. 顧客のビジネスの理解深化 8.その他【自由記入】 ※成果報酬型の契約形態で、発注側と受注側がリスクを共有しながら、相互の協力で生み出した利益を、あらかじめ決めておいた配分率で分け合う" 今後の顧客との関係性を継続・強化するうえで、課題として大きいと考えている点を重要度順に3つまでお答えください。 "1. 経営陣として何をすべきか定められない 2. 意思決定に時間がかかり、変化が遅い 3. 顧客からの声掛けがない限り、自ずからは動かない受け身の姿勢 4. 新しい取り組みが正しく評価されない制度 5. とにかく現場に人を貼り付け、将来の投資に注力しない文化 6. 失敗を極力避ける企業文化で、リスクを取ったチャレンジができない 7. 顧客のDX予算が足りない 8. 教育や研究開発への資金が不足している 9. その他" 貴社では現在、前問の課題をどのように解決しようとしていますか。 "1. 経営戦略でのコミットメント 2. 部署編成等の組織体制の変更 3. 厚遇職位の新設、報酬制度変更などによる、DX人材の待遇向上 4. 役員級のDX人材の採用 5. 本社から独立した組織を設置し、共創/先進技術活用/教育等の機能を持たせる 6. 政府・自治体との連携 7. 大学・研究機関との連携 8. レガシー系案件の強制的な人工削減 9. 提案先部署の変更 (情シス部→事業部、CIO→CDOなど) 10. R&D予算の増額 11. 一部持ち出しでの案件受注 12. その他" 貴社事業へのコロナウィルス感染症による貴社事業への影響は、どの点にありましたか。影響が大きい順に3つまでお答えください。 "1.顧客との関係が希薄化した 2.労働力が不足した 3.生産性が低下した 4.コロナ対応のための投資が必要になった 5.(コロナ対応以外の)投資が停滞した 6.需要が減少した 7.需要が増加した 8.その他（自由回答） 9.影響はほとんどなかった" コロナ禍発生後の貴社のIT投資は、発生前(2019年)と比べどう変わっていますか。 "1年目： 増えた・変わらない・減った 2年目： 増えた・変わらない・減った" 顧客企業から、コロナ禍対応案件(リモートワーク環境の整備、在宅者向けの新規サービス開発など)の追加受注または増額はありましたか。 "1. 追加受注または増額があり、総受注額の半分以上を占めた 2. 追加受注または増額があり、総受注額の数割以上を占めた 3. 追加受注または増額があったが、受注額の数割以下であった 4. なかった 5. わからない" Q25で挙げた案件には、どのようなものがありましたか。 "1. 業務のリモート対応 2. 社内業務のペーパレス化・デジタル化 3. 社内ネットワーク・ITインフラの増強 4. 情報セキュリティ対策の強化 5. オフィスの縮小または分散化 6. 接触機会の低減など、新しい生活様式に適応したサービスの開発 7. その他（自由記述）" コロナ禍2年目に入り、Q25の受注状況に変化はありましたか。 "1. かなり増えた 2. ある程度増えた 3. 変わらない 4. ある程度減った 5. かなり減った 6. わからない" "コロナ以前と比べた貴社内の変化は、どのようなものがありましたか。 当てはまるものをいくつでもお答えください。" "1. オフィス規模を縮小した 2. リモートワークの割合が増えた 3. 変化はない 4. その他" 貴社のリモートワークが可能な従業員の割合に関して、以下それぞれの項目について、最も近いものを1つ選び、該当する番号に○印をつけて下さい。 "1. コロナ感染拡大以前 (2019年) 2. コロナ緊急事態宣言時 3. 現在 (2021年11月上旬) 4. コロナ終息後 (見込み) 1. ほぼ全従業員(80%以上) 2. 半数以上の従業員(50%～80%未満程度) 3. 一部の従業員(20%～50%未満程度) 4. 一部の従業員(10%～20%未満程度) 5. ほとんど実施していない(10%未満)・わからない" 貴社でリモートワークを実施している従業員の一日あたりの平均的な割合に関して、以下それぞれの項目について、最も近いものを1つ選び、該当する番号に○印をつけて下さい。 "1. コロナ感染拡大以前 (2019年) 2. コロナ緊急事態宣言時 3. 現在 (2021年11月上旬) 4. コロナ終息後 (見込み) 1. ほぼ全従業員(80%以上) 2. 半数以上の従業員(50%～80%未満程度) 3. 一部の従業員(20%～50%未満程度) 4. 一部の従業員(10%～20%未満程度) 5. ほとんど実施していない(10%未満)・わからない" 貴社のエンジニアが主に働いている場所に関して、以下それぞれの項目について最も割合が高いものを1つ選び、該当する番号に○印をつけて下さい。 "1. コロナ感染拡大以前 (2019年) 2. コロナ緊急事態宣言時 3. 現在 (2021年11月上旬) 4. コロナ終息後 (見込み) 1. 自社オフィス 2. 客先オフィス（顧客・パートナー） 3. サテライトオフィス コワーキングスペース等 4. 自宅 5. その他" リモートワーク上で課題だと思っていることをお答えください。 "1. 備品/ツールや集中できる空間などの労働環境の整備 2. 社員の成長速度の低下 3. 業務上のコミュニケーションの希薄化 4. 雑談などの非必須コミュニケーションの希薄化 5. マネジメントが難しい 6. 顧客からの対面実施要望 7. セキュリティ上の懸念 8. 特段な理由なくコロナ前に戻しただけ 9. その他 (自由記述)" "現在*、コロナ緊急事態宣言時と比べ、次の各業務について、顧客から対面での実施を求められる(=リモート実施を避けられる)ケースは増えていますか。 *2021年11月上旬 " "1. 顧客との会議 2. 客先常駐社員の業務 3. 提案・営業活動 1. かなり増えた 2. ある程度増えた 3. 変わらない 4. ある程度減った 5. かなり減った 6. わからない" ユーザーアンケート "ご自身の主な職種を選択ください。 "1 経営者、役員 2 経営企画、事業企画 3 マーケティング・販売 4 研究開発、製品設計、技術 5 商品企画・開発 6 購買・仕入れ 7 製造・生産・品質管理 8 広告・宣伝・マーケティング 9 情報システム 10 物流・配送 11 人事・総務・経理 12 法務・コンプライアンス 13. デジタル専門組織 14 その他 【自由回答】" お勤め先のDXに関わる戦略策定は、主としてどの組織が担っていますか。 "1.経営企画部門 2.情報システム部門・情報子会社 3.事業部門(新事業担当) 4.事業部門(既存事業担当) 5.研究所・研究機関 6.デジタル専門組織やデジタル子会社 7. 明確になっていない 8. その他 【自由回答】" お勤め先で現在取り組まれているDXの目的・目標として、該当するものを重要度順に3つまでお答えください。 "1. 製品・サービスの付加価値向上・差別化 2. 新規ビジネス創出による収益の拡大 3. 業務の効率化 4. 他社の破壊的イノベーションへの対抗 5. 環境/社会への負荷軽減 6. 社会課題の解決に向けた製品/サービスの開発 7. その他 【自由回答】 1.とても重視している 2.やや重視している 3.どちらともいえない 4.あまり重視していない 5.まったく重視していない" お勤め先のDXの目的を達成するうえで、特に注目している事業場の課題を優先順に3つまでお答えください。 "1.新事業の創出 2.新製品・サービスの創出 2.販売・流通形態、サプライチェーンの刷新 3.プロセス改革による生産性向上 4.調査・研究・開発の期間短縮 5.意思決定の迅速化 6.働き方の改革 (勤務形態の多様化など) 7.その他【自由回答】" 前問（Q4）で回答いただいた解決したい課題について、検討・進捗状況を選択ください。 "1.実施済みで成果が出ている 2.実施済みだが成果はまだ出ていない（今後期待している） 3. 試行継続中 4. 取り組んだが中止した 5. 計画中 6.未着手 7.取り組む予定はない 【表頭項目】 1. （1位項目表示） 2. （2位項目表示） 3. （3位項目表示）" 企業のDX成熟度のレベルとして、【現状】と【5年後】に目指す目標について、それぞれお答えください。 "1: 未着手 2: 全社戦略になっておらず、活動も部署単位で散発的になっている 3: 全社戦略となっており、部単位の活動として実施 4: 全社戦略となっており、必要に応じて部門横断的な実施ができるようになっている 5: 全社戦略となっており、全社として進展が管理され、仕組みの改善も定期的に行われている 6: （上記項目における）特性を満たした上で、グローバル市場でも存在感を発揮し、競争上の優位性を確立している 【表頭項目】 1. 現状 2. 5年後に目指す目標" お勤め先では、現状、どの程度データを分析/活用していますか。 "1.紙による業務が中心で、データの電子的取得はあまりできていない 2.社内システムのデータを参照している 3.社内システムのデータを、業務に活用(分析、予測など)している 4.社内システムのデータに加えて外部データ(ネット上のデータやIoTデータなど)も取得し、業務に活用(分析、予測など)している 5.データが、経営・業務の重要な意思決定基準となっている" DXのために導入している技術があればお答えください。 "【新技術領域】 1. AI・機械学習 2.RPA（Robotic Process Automation） 3. チャット/遠隔会議などのコミュニケーションツール (Slack, Zoomなど) 4. プロジェクト管理やコラボレーションツール (Jira, Miroなど) 5.クラウド型業務パッケージ(ERP、会計、SFA、CRMなど) 6. CDPツール (Treasure Dataなど) 7. ドローン 8. AR/VR 9. ブロックチェーン 10. その他 【自由回答】 11. わからない 【基盤技術】 1.5G,IoT 2. クラウドコンピューティング (IaaS,PaaS等) 3. ローコード、ノーコードプラットフォーム 4. その他 【自由回答】 5. わからない 【開発技法・方式】 1.アジャイル開発 2.マイクロサービスアーキテクチャ 3.DevOps/DevSecOps 4. デザイン思考 5. その他 【自由回答】 6. わからない" "IT投資における予算配分について、DX(*1)とRTB(*2)に分けたとき、DXの割合は何%程度でしょうか。 (回答者が持ち株会社所属の場合、把握できる範囲のグループ企業を全体としてご回答ください。) (*1)ビジネス環境の激しい変化に対応し、データとデジタル技術（IT）を活用して、製品やサービスの革新、ビジネスモデルの変革、または業務を改革して競争優位性を確立する活動。新しい機能のシステム導入はここに含む。 (*2)”Ｒｕｎ ｔｈｅ ｂｕｓｉｎｅｓｓ”の略で、いま現在の事業と業務を実行するために使われる情報システムを維持する活動。社内オンプレシステムのクラウド化など、既存のシステムを置き換える活動はここに含む。" "1. DXがほぼ100% 2. DXが大半を占める 3. DXが半分程度 4. DXが数割程度 5. DXがほぼ0%" DXの予算割合は、過去3年で変化しましたか。 "1.増えた 2.変わらない 3.減った" DXの予算割合について、今後3年程度でどのように変わる見込みですか。 "1. 増やす 2. 変えない 3. 減らす" "IT部門(*)が管理するDX予算と、事業部門が管理するDX予算の割合は概ねどの程度でしょうか。 (*)DXのために新たに作られた部門でなく、既存システムの整備・運用に携わる管理部門。情報システム部等。" "1. IT部門がほとんどすべて管理する 2. IT部門がやや多い 3. IT部門と事業部門が同程度 4. 事業部門がやや多い 5. 事業部門がほとんどすべて管理する" "DX投資額の中で、ITベンダー(*1)等を使わず内製(*2)によって開発しているものは、全体の何割程度になりますか。 (*1)ハードウェアやソフトウェア、(情報）システム、(IT）サービスなどを販売する企業。 (*2)貴社社員のみでプログラム開発、運用まで行うこと、あるいは貴社社員が要件定義から開発の手前までを行い、プログラミングや詳細設計を外部エンジニアを受け入れて一緒に行うことを含む。" "1. 内製がほぼ100% 2. 内製が大半を占める 3. 内製が半分程度 4. 内製が数割程度 5. 内製がほぼ0%" 内製化の割合は過去3年程度でどう変わりましたか。 "1. 増加した 2. 変わらない 3. 減少した" 内製の目的は何ですか。主なものを2つまでお答えください。 "1. システムの把握度を向上する 2. 開発速度を上げる 3. ビジネス要件の変化に柔軟に対応する 4. 開発コストを下げる 5. ノウハウを獲得し、社内外の開発へ水平展開する 6. ノウハウの外部流出を避ける 7. DXによる事業創造・業務変革は、自社を熟知した社員の方が適している 8. その他 9. あてはまるものはない 【表頭項目】 1. （1位項目を選択） 2. （2位項目を選択）" "Q14.ローコード／ノーコード(*)等により内製への障壁はかつてよりも低くなっていると感じますか。 (*)”コード”すなわちコンピュータプログラムを新たに作成することなく、あるいはほとんど作成することなく、Webサイトの作成や簡単な計算・集計を行うことができるようなシステム。" "1.そう思う 2.ややそう思う 3.あまり変わらない 4.やや難しくなっている 5.とても難しくなっている 6. わからない" これまで内製したDXシステムについて、目的は十分に達成されたと思いますか。 "1.そう思う 2.ややそう思う 3.どちらともいえない 4.あまりそう思わない 5.そう思わない" 前問（Q17）で「4.あまりそう思わない」「5.そう思わない」と回答した方にお伺いします。目的の達成が不十分だった理由は何でしょうか。 "1.十分な人材が確保できなかった。 2.稼働したが、品質に問題が大きかった。 3.ガバナンス上問題が残る結果になった。 4.保守、運用が難しくなってしまった。 5.セキュリティ上問題が残る結果になった。 6.その他 【自由回答】" DXに必要なスキル・知識を持つ人材をどのように育成・獲得していましたか。 "1. 自社内で独力で育成（事業部門内） 2. 自社内で独力で育成（IT部門内） 3. 外部のサポートを受けながら、自社で育成（事業部門内） 4. 外部のサポートを受けながら、自社で育成（IT部門内） 5. 外部から獲得（中途採用面接） 6. 外部から獲得（他社からスカウト） 7. 外部から獲得（M&A、他社に出資等） 8. 大学等の教育機関・研究機関との連携強化 9. 10代の若者、学生を早期にスカウト 10. その他 【自由回答】 11. 特に対策していない" お勤め先の会社において、DXを担う社員に必要なスキル・能力は何でしょうか。 "1. 戦略企画 2.顧客の課題やニーズ把握 3.アイディア発想力、創造力 4.技術力、ものを作る能力 5.データ分析力 6.その他 【自由記入】" "お勤め先のRTBシステム(*)を以下のようにわけたとき、アウトソーシングに対する考え方はどうなりますか。 (*)現在の事業と業務を実行するために使われる情報システム。" "縦軸： 1. 共同利用できるもの 2. 共同利用できないもの（競争力の源泉であり他社と共通化しにくいもの） 横軸： 実施済みなのか計画中なのか 1. 実施済み 3. 試行中 4. 計画がある 5. 検討中 6. 取り組む予定はない・検討したが取りやめた" "共同利用(*)に置き換え可能なシステムの割合は、何％程度存在すると考えられますか。 (*)情報システムについて、他社と同じ機能のものをサービスとして利用するもの。SaaS（”Software as a Service""）や共同利用型システム、共通業務システム等がある。" "1. ほぼ100% 2. 大半を占める 3. 半分程度 4. 数割程度 5. ほぼ0%" 共同利用にしたいと考えるシステムについて、その理由を重要度順に2つまでお聞かせください。 "1. コスト削減ができるから 2. BPRができるから 3. 新しい技術に対応した最新バージョンを常に利用できるから 4. ベストプラクティスが利用出来るから 5. その他 (自由記述) 6. あてはまるものはない 【表頭項目】 1. （1位項目を選択） 2. （2位項目を選択）" 共同利用にしたくないシステムについて、その理由を重要度順に2つまでお聞かせください。 "1. システムは競争力の源泉だから 2. 柔軟な変更可能性を維持したいから 3. 業務の独自性を維持したいから 4. データセキュリティ面の不安があるから 5. システムのパフォーマンスやアベイラビリティが低下する恐れがあるから 6.共同利用化以外の、フルアウトソーシングやオフショア化、システム売却(リースバック)等によって現行システムを継続利用する方法を選びたいから 6. その他 【自由回答】 7. あてはまるものはない 【表頭項目】 1. （1位項目を選択） 2. （2位項目を選択）" DXの実現に向け、協働している外部企業はありますか。 "1. 他業界(ITベンダを除く)の企業 2. 同業界の企業 3. 情報系子会社/関連会社 4. ITベンダ 5. コンサルファーム 6. 中小のソフトウェア開発企業 7. Techベンチャー企業 8. 個人 9. 大学・研究機関 10. その他 【自由回答】 11. 外部企業はない" 協働している企業について、優れている・劣っていると思う項目を、それぞれ2つまでお答えください。 "1. ビジネスモデル提案力 2. CX、UXデザイン能力 3. 新技術への高度な対応力 4. 対応スピードや柔軟性(アジャイル等) 5. しっかりしたシステム品質 6. 価格 7. その他 【表頭項目】 1. 他業界(ITベンダを除く)の企業 2. 同業界の企業 3. 情報系子会社/関連会社 4. ITベンダ 5. コンサルファーム 6. 中小のソフトウェア開発企業 7. Techベンチャー企業 8. 個人 9. 大学・研究機関" これらの企業との連携は、ここ3年程度でどう変化しましたか。 "1.強化した 2.変わらない 3.減らした 【表頭項目】 1. 他業界(ITベンダを除く)の企業 2. 同業界の企業 3. 情報系子会社/関連会社 4. ITベンダ 5. コンサルファーム 6. 中小のソフトウェア開発企業 7. Techベンチャー企業 8. 個人 9. 大学・研究機関" "DXの実現に向けて、ITベンダーなどの発注先と直近3年程度で実施または強化したもの、今後強化していきたいものをそれぞれ上位3つまで選択してください。 (*)回答選択肢の「レベニューシェア」とは、成果報酬型の契約形態で、発注側と受注側がリスクを共有しながら、相互の協力で生み出した利益を、あらかじめ決めておいた配分率で分け合うことを指します。" "1. 人材交流 2. アジャイル等による共同でのサービス開発 3. 事業共創 4. 知財の共有 5. レベニューシェア(*) 6. JV(デジタル合弁企業)の設立 7.その他 【表頭項目】 1. （1位項目を選択） 2. （2位項目を選択） 3. （3位項目を選択）" コロナウィルス感染症の流行（以下、コロナ禍）により、お勤め先の事業はどのような影響を受けましたか。 "1.自社の商品・サービスの需要 2.自社社員の生産性 3.設備投資額 4.人員 5.材料・資材・商品等の調達可能性 6.顧客との関係性 1. 増加/改善した 2. 変わらない 3. 減少/悪化した" コロナ禍への対応に伴う、以下のそれぞれの項目について、貴社の状況に最も近いものをお選びください。 "1.リモートワークの導入 2.社内ITインフラの増強 3.情報セキュリティ対策の強化 4.社内業務のペーパレス化・デジタル化 5.営業活動のオンライン化 6.採用活動のオンライン化 7.人材育成（研修等）のオンライン化 8.オフィスの縮小または分散化 表頭： 1. ほぼ全面的に実施した 2. 部分的に実施・試行した 3. コロナ禍前に実施済み 4. 実施していない" お勤め先のリモートワークが可能な従業員の割合に関して、以下それぞれの項目について、最も近いものをお選びください。 "1. コロナ感染拡大以前 (2019年) 2. コロナ緊急事態宣言時 3. 現在 (2021年11月上旬) 4. コロナ終息後 (見込み) 1. ほぼ全従業員(80%以上) 2. 半数以上の従業員(50%～80%未満程度) 3. 一部の従業員(20%～50%未満程度) 4. 一部の従業員(10%～20%未満程度) 5. ほとんど実施していない(10%未満)・わからない" お勤め先でリモートワークを実施している従業員の一日あたりの平均的な割合に関して、以下それぞれの項目について、最も近いものをお選びください。 "1. コロナ感染拡大以前 (2019年) 2. コロナ緊急事態宣言時 3. 現在 (2021年11月上旬) 4. コロナ終息後 (見込み) 1. ほぼ全従業員(80%以上) 2. 半数以上の従業員(50%～80%未満程度) 3. 一部の従業員(20%～50%未満程度) 4. 一部の従業員(10%～20%未満程度) 5. ほとんど実施していない(10%未満)・わからない" コロナ禍の発生以前と比べ、お勤め先のDX投資はどのように変化しましたか。 "1.増えた 2.変わらない 3.減った" コロナ禍の収束または常態化に伴う以下に挙げるような変化のうち、お勤め先で発生を実感しているものをすべてお答えください。 "1.新しい事業の創出 2.自社・業界におけるDXの進展 3.顧客やパートナーとの共創機会の拡大 4.既存事業・ビジネスの拡大 5.地域企業のおけるビジネス機会の拡大（東京一極集中の緩和） 6.優秀な人材獲得機会の拡大 7.オンライン化の進展（行政・医療・教育・流通等） 8.時間/場所に縛られない働き方改革の進展 9.オンライン学習の拡大による人材のスキル向上 10.その他 【自由回答】 11.実感するものはない" その他DXについて、自由にご意見等をお書きください。 自由 | B2: ユーザー企業と情報サービス企業の新たな関係 情報サービス産業白書2022年版 | C2: 2021/11- | D2: 情報サービス産業白書2022 | E2: 資料販売 | F2: https://www.jisa.or.jp/publication/tabid/272/pdid/wp2022/Default.aspx | G2: =IF(jisa調査検索!$B$2>0,COUNTIF($A2,"*"&DBCS(jisa調査検索!$B$2)&"*"),0)+IF(jisa調査検索!$B$2>0,COUNTIF($A2,"*"&ASC(jisa調査検索!$B$2)&"*"),0) -> 0 | H2: =IF(jisa調査検索!$B$3>0,COUNTIF($A2,"*"&DBCS(jisa調査検索!$B$3)&"*"),0)+IF(jisa調査検索!$B$3>0,COUNTIF($A2,"*"&ASC(jisa調査検索!$B$3)&"*"),0) -> 0 | I2: =IF(jisa調査検索!$B$4>0,COUNTIF($A2,"*"&DBCS(jisa調査検索!$B$4)&"*"),0)+IF(jisa調査検索!$B$4>0,COUNTIF($A2,"*"&ASC(jisa調査検索!$B$4)&"*"),0) -> 0 | J2: =IF(COUNTA(jisa調査検索!$B$2:$B$4)=0,0,IF(COUNTIF(G2:I2,">0")>=COUNTA(jisa調査検索!$B$2:$B$4),1,0)) -> 0 | K2: =IF(J2>0,COUNTIF($J$2:J2,1),"")
A3: １．分類について ①機密情報（営業秘密・個人情報を含む）や一般／公開情報などを分類するルールがありますか ②機密情報分類の対象媒体は何ですか（電子ファイル、メール・添付やメッセージ、紙、データベースやサーバ、知識記憶） ③いくつに分類していますか ④差し支えない範囲で、それぞれの分類の対象・内容についてお教えください ２．ラベル付けについて ①分類された機密情報にはラベル付けがされていますか ②媒体ごとのラベル付けの方法（紙押印やテキスト署名、証明書等） ③社内の機密情報すべてにラベル付けが完了していますか、どのように展開していますか ３．ライフサイクル ①機密情報の入手、変更、活用、廃棄などのタイミングの見直し、棚卸や監査など実施していますか ②盗難などインシデント発生時に対象となる情報を特定したり、無効化する手段はありますか（持ち出しログ、IRM等） ４．アクセス制御・秘匿化 ①特に重要な機密情報はシステム的な取扱い制限を行っていますか（アクセス制限、アクセス記録、暗号化など） ②電子メール、メッセージ、Webサーバ、クラウドストレージなど各システムについて、それぞれ対策・ツール等利用ありますか ③利用しているツールの利点、不便な点などコメントください ④システム化によらず、人間系で実施しているものがありますか ５．ルールや教育 ①機密文書の定義や分類方法、取り扱いについて、会社規程など文書化していますか ②ルールに基づく教育などを実施していますか（集合・WBT、定期的） ③運用面で苦労している点、自社の経験でJISA会員に有益となりそうな情報 ６．クラウドの利用方法について ①機密情報データをクラウド（パブリック／プライベート）で管理していますか、クラウドに置けない情報はありますか ②機密情報を扱うクラウドサービスの選定基準はありますか（ISO27017、国内リージョン等） ③ユーザの認証方法（IDaaS、AD連携、2FA）、アクセス経路の制限（CASB、SASE等）はありますか ④機密情報へのアクセス制限（グループ／フォルダ単位の認可等）、組織変更時などのアクセス権変更はどのようにしていますか ⑤漏洩防止対策はどのようにしていますか（監査ログ、暗号化／秘密分散、IRM等） 7．その他 ①機密情報の分類、ラベル付け、運用、廃棄、秘匿化などで利用できるお勧めツールがありますか ②利用していないツールでも情報がありましたら | B3: 機密情報の取扱いに関するアンケート調査結果報告 | C3: 2022/1- | D3: 報告書R3-J005 | E3: webメンバー限定 | F3: https://www.jisa.or.jp/publication/tabid/272/pdid/R3-J005/Default.aspx | G3: =IF(jisa調査検索!$B$2>0,COUNTIF($A3,"*"&DBCS(jisa調査検索!$B$2)&"*"),0)+IF(jisa調査検索!$B$2>0,COUNTIF($A3,"*"&ASC(jisa調査検索!$B$2)&"*"),0) -> 0 | H3: =IF(jisa調査検索!$B$3>0,COUNTIF($A3,"*"&DBCS(jisa調査検索!$B$3)&"*"),0)+IF(jisa調査検索!$B$3>0,COUNTIF($A3,"*"&ASC(jisa調査検索!$B$3)&"*"),0) -> 0 | I3: =IF(jisa調査検索!$B$4>0,COUNTIF($A3,"*"&DBCS(jisa調査検索!$B$4)&"*"),0)+IF(jisa調査検索!$B$4>0,COUNTIF($A3,"*"&ASC(jisa調査検索!$B$4)&"*"),0) -> 0 | J3: =IF(COUNTA(jisa調査検索!$B$2:$B$4)=0,0,IF(COUNTIF(G3:I3,">0")>=COUNTA(jisa調査検索!$B$2:$B$4),1,0)) -> 0 | K3: =IF(J3>0,COUNTIF($J$2:J3,1),"")
A4: 1. 調査研究の目的と概要 1.1 調査研究の目的 1.2 実施概要 2. 情報サービス産業におけるIT ディレクトリ 2.1 IT ディレクトリの更新 2.2 IT ディレクトリ構成 2.3 IT ディレクトリ定義 3. 分析結果 3.1 分析の概要 3.2 全体動向 3.2.1 アンケートの回答状況 3.2.2 回答データの分布 3.2.3 SI 実績指数と着手意向指数の動向 3.3SI 実績指数と着手意向指数 3.3.1 ライフサイクルマップの構図と読み方 3.3.2 ライフサイクルマップによる動向 基盤構成技術 B) 仮想化・クラウド基盤 C) ミドルウェア D) データベース関連技術 E) クライアント・デバイス F) セキュリティ G) 開発言語 H) 開発環境・ツール I) 開発手法・プロセス J) 運用管理 K) IT ガバナンス 3.4 認知度分析 3.4.1 全体的な分析 3.4.2 認知度と着手意向指数、SI 実績指数との関係 3.5SI 実績の相関分析 3.5.1 相関分析方法 3.5.2 相関分析結果 4. DX 関連技術及びコロナ対応技術に関する調査（2021 年度特設テーマ） 4.1DX 関連技術の認知度 4.2DX 関連技術のSI 実績指数 4.3 技術者周辺でのコロナ対応 4.3.1 リモートワークの実施状況 4.3.2 リモートワークでの対応が困難な業務 4.3.3 リモートワークで活用したシステム・ツール 4.3.4 コロナ禍で注目された技術 5. あとがき 付録1：IT ディレクトリの構成とSI 要素技術 「IoT デバイス／エッジデバイス」、「組み込み OS」で SI 実績が増加しました。特に「組み 込み OS」は長らく大きな変動がなかった中での動きであり、自動運転やスマートシティな ど様々なモノがスマート化、IoT 化する流れを受けたものと思われます。また、クラウドサービスはシステム基盤の中核的な存在となりつつあ り、より安定的・効率的に運用するための周辺技術もそれを追いかける形で普及傾向にあります。 周辺技術として、「IDaaS」や「CASB／クラウド利用セキュリティ対策関連技法」 付録2：調査対象データの指数一覧 | B4: 2022年版情報サービス産業における情報技術マップに関する調査報告 | C4: 2021/11- | D4: 報告書R3-J004 | E4: 資料販売 webメンバー | F4: https://www.jisa.or.jp/publication/tabid/272/pdid/R3-J004/Default.aspx | G4: =IF(jisa調査検索!$B$2>0,COUNTIF($A4,"*"&DBCS(jisa調査検索!$B$2)&"*"),0)+IF(jisa調査検索!$B$2>0,COUNTIF($A4,"*"&ASC(jisa調査検索!$B$2)&"*"),0) -> 0 | H4: =IF(jisa調査検索!$B$3>0,COUNTIF($A4,"*"&DBCS(jisa調査検索!$B$3)&"*"),0)+IF(jisa調査検索!$B$3>0,COUNTIF($A4,"*"&ASC(jisa調査検索!$B$3)&"*"),0) -> 0 | I4: =IF(jisa調査検索!$B$4>0,COUNTIF($A4,"*"&DBCS(jisa調査検索!$B$4)&"*"),0)+IF(jisa調査検索!$B$4>0,COUNTIF($A4,"*"&ASC(jisa調査検索!$B$4)&"*"),0) -> 0 | J4: =IF(COUNTA(jisa調査検索!$B$2:$B$4)=0,0,IF(COUNTIF(G4:I4,">0")>=COUNTA(jisa調査検索!$B$2:$B$4),1,0)) -> 0 | K4: =IF(J4>0,COUNTIF($J$2:J4,1),"")
A5: 本社所在地別回答状況 資本系列別回答状況 資本金規模別回答状況 売上高規模別回答状況 従業員規模別回答状況 改正高齢法への対応 年俸制度の有無 賃上げ率の分布 賃上げ額の分布 賃上げ率と賃上げ額の分布 平均年齢と賃上げ率の分布 平均年齢と賃上げ額の分布 ITエンジニア初任給 ITエンジニア初任給の分布 ITエンジニア初年度賞与 ITエンジニア初年度賞与の分布 「25歳」 実在者賃金 (月例／年間賞与) 「30歳」 実在者賃金 (月例／年間賞与) 「35歳」 実在者賃金 (月例／年間賞与) 「40歳」 実在者賃金 (月例／年間賞与) 「45歳」 実在者賃金 (月例／年間賞与) 「50歳」 実在者賃金 (月例／年間賞与) 「55歳」 実在者賃金 (月例／年間賞与) 「独立系」 実在者賃金 (月例／年間賞与) 「コンピュータメーカー系」 実在者賃金 (月例／年間賞与) 「ユーザー系」 実在者賃金 (月例／年間賞与) 「首都圏」 実在者賃金給与 (月例／年間賞与) 「名京阪神」 実在者賃金 (月例／年間賞与) 「首都圏以外」 実在者賃金 (月例／年間賞与) 一般社員／管理職別 平均年間賞与 一般社員／平均年間賞与の分布 一般社員／平均年齢と平均勤続年数の分布 一般社員／平均年齢と平均年間賞与の分布 管理職／平均年間賞与の分布 管理職／平均年齢と平均勤続年数の分布 管理職／平均年齢と平均年間賞与の分布 資格手当支給規程の有無と支給実績 資格手当支給規程の有無 (割合) 資格手当支給対象者(実績) (グラフ) 資格手当支給規程の有無 (グラフ) 資格手当の平均値 (表) 資格手当の平均値 (グラフ) 「一時金のみ支給」の企業割合と平均支給額 「月額加算のみ」の企業割合と平均支給額 ITコーディネータ システム監査技術者 ＩＴストラテジスト システムアーキテクト プロジェクトマネージャ ネットワークスペシャリスト データベーススペシャリスト エンベデッドシステムスペシャリスト 情報処理安全確保支援士/情報セキュリティスペシャリスト ITサービスマネージャ 応用情報技術者 基本情報技術者 ITパスポート 情報セキュリティマネジメント 技術士 中小企業診断士 電気通信主任技術者 電気通信の工事担任者(AIDD総合種) 電気通信の工事担任者(AI/DD 一種) 電気通信の工事担任者(AI/DD 二種) 電気通信の工事担任者(AI/DD 三種) | B5: 令和3年度情報サービス産業 賃金データ | C5: 2022/1- | D5: 報告書R3-J003 | E5: 資料販売のみ | F5: https://www.jisa.or.jp/publication/tabid/272/pdid/R3-J003/Default.aspx | G5: =IF(jisa調査検索!$B$2>0,COUNTIF($A5,"*"&DBCS(jisa調査検索!$B$2)&"*"),0)+IF(jisa調査検索!$B$2>0,COUNTIF($A5,"*"&ASC(jisa調査検索!$B$2)&"*"),0) -> 0 | H5: =IF(jisa調査検索!$B$3>0,COUNTIF($A5,"*"&DBCS(jisa調査検索!$B$3)&"*"),0)+IF(jisa調査検索!$B$3>0,COUNTIF($A5,"*"&ASC(jisa調査検索!$B$3)&"*"),0) -> 0 | I5: =IF(jisa調査検索!$B$4>0,COUNTIF($A5,"*"&DBCS(jisa調査検索!$B$4)&"*"),0)+IF(jisa調査検索!$B$4>0,COUNTIF($A5,"*"&ASC(jisa調査検索!$B$4)&"*"),0) -> 0 | J5: =IF(COUNTA(jisa調査検索!$B$2:$B$4)=0,0,IF(COUNTIF(G5:I5,">0")>=COUNTA(jisa調査検索!$B$2:$B$4),1,0)) -> 0 | K5: =IF(J5>0,COUNTIF($J$2:J5,1),"")
A6: 本社所在地別分布 設立時期別分布 資本金規模別分布 従業員規模別分布 売上高規模別分布 資本系列別構成 主たる営業地域別構成 主たる業務別構成 業務別売上高構成･ 取引先別売上高構成 顧客のDXに関わる売上高比率･ 海外売上高比率 売上高成長率 売上高成長率（次年度見込み） 売上高人件費率 売上高外注費率 売上高材料費率 売上高経費率 売上高営業利益率 売上高経常利益率 売上高設備投資率・情報化投資率･ 売上高研究開発投資率 売上高教育投資率 就業状況 従業員構成(男女比) ITエンジニア(男女比) 管理職(男女比) 労働時間(所定内・所定外(残業時間)等) 有給休暇 25歳30歳35歳給与・賞与 外国人従業員数 60～64歳の従業員数 65歳以上の従業員数 身体障がい者の従業員数 知的・精神障がい者の従業員数 テレワーク実施企業比率 テレワーク実施人数比率 テレワーク実施日数平均 新規採用人数(男女比)・初任有 中途採用 退職状況 新規採用における10年後定着率 海外子会社の保有状況 サービス業態別クロス集計 資本系列別クロス集計 主たる営業地域別クロス集計 従業員規模別クロス集計 ･ 売上高の分布 従業員数の分布 従業員1人あたりの売上高の分布 ･ 売上高成長率の分布 売上高人件費率の分布 売上高営業利益率の分布 30歳平均年収の分布 平均年齢(男女比) | B6: 2021年版情報サービス産業 基本統計調査 | C6: 2021/7- | D6: 報告書R3-J001 | E6: 一般公開 | F6: https://www.jisa.or.jp/publication/tabid/272/pdid/R3-J001/Default.aspx | G6: =IF(jisa調査検索!$B$2>0,COUNTIF($A6,"*"&DBCS(jisa調査検索!$B$2)&"*"),0)+IF(jisa調査検索!$B$2>0,COUNTIF($A6,"*"&ASC(jisa調査検索!$B$2)&"*"),0) -> 0 | H6: =IF(jisa調査検索!$B$3>0,COUNTIF($A6,"*"&DBCS(jisa調査検索!$B$3)&"*"),0)+IF(jisa調査検索!$B$3>0,COUNTIF($A6,"*"&ASC(jisa調査検索!$B$3)&"*"),0) -> 0 | I6: =IF(jisa調査検索!$B$4>0,COUNTIF($A6,"*"&DBCS(jisa調査検索!$B$4)&"*"),0)+IF(jisa調査検索!$B$4>0,COUNTIF($A6,"*"&ASC(jisa調査検索!$B$4)&"*"),0) -> 0 | J6: =IF(COUNTA(jisa調査検索!$B$2:$B$4)=0,0,IF(COUNTIF(G6:I6,">0")>=COUNTA(jisa調査検索!$B$2:$B$4),1,0)) -> 0 | K6: =IF(J6>0,COUNTIF($J$2:J6,1),"")
A7: 1. 調査研究の目的と概要 1.1 調査研究の目的 1.2 実施概要 2. 情報サービス産業におけるITディレクトリ 2.1 ITディレクトリの更新 2.2 ITディレクトリ構成 2.3 ITディレクトリ定義 3. 分析結果 3.1 分析の概要 3.2 全体動向 3.2.1 アンケートの回答状況 3.2.2 回答データの分布 3.2.3 SI実績指数と着手意向指数の動向 3.3 SI実績指数と着手意向指数 3.3.1 ライフサイクルマップの構図と読み方 3.3.2 ライフサイクルマップによる動向 A)基盤構成技術 B)仮想化・クラウド基盤 C)ミドルウェア D)データベース関連技術 E)クライアント・デバイス F)セキュリティ G)開発言語 H)開発環境・ツール I)開発手法・プロセス J)運用管理 K)ITガバナンス L)デジタルワークプレイス 3.4 認知度分析 3.4.1 全体的な分析結果 3.4.2 認知度と着手意向指数、SI実績指数との関係 3.5 SI実績の相関分析 3.5.1 相関分析方法 3.5.2 相関分析結果 4. DX関連技術およびコロナ対応技術に関する調査（2020年度特設テーマ） 4.1 DX関連技術の認知度 4.2 コロナ禍で注目された技術のSI実績指数 4.3 技術者周辺でのコロナ対応 4.3.1 リモートワークの実施状況 4.3.2 緊急事態宣言下でも出勤により対応した業務 4.3.3 リモートワークで活用したシステム・ツール 4.3.4 コロナ禍での変化に対する期待感 4.3.5 職場のコロナ対応の点数 4.3.6 コロナ禍後に向けて取り組みたい領域 付録1：ITディレクトリの構成とSI要素技術 付録2：調査対象データの指数一覧 | B7: 2021年版情報サービス産業における情報技術マップに関する調査報告 | C7: 2020/11- | D7: 報告書R2-J005 | E7: 資料販売 webメンバー | F7: https://www.jisa.or.jp/tabid/272/pdid/R2-J005/Default.aspx | G7: =IF(jisa調査検索!$B$2>0,COUNTIF($A7,"*"&DBCS(jisa調査検索!$B$2)&"*"),0)+IF(jisa調査検索!$B$2>0,COUNTIF($A7,"*"&ASC(jisa調査検索!$B$2)&"*"),0) -> 0 | H7: =IF(jisa調査検索!$B$3>0,COUNTIF($A7,"*"&DBCS(jisa調査検索!$B$3)&"*"),0)+IF(jisa調査検索!$B$3>0,COUNTIF($A7,"*"&ASC(jisa調査検索!$B$3)&"*"),0) -> 0 | I7: =IF(jisa調査検索!$B$4>0,COUNTIF($A7,"*"&DBCS(jisa調査検索!$B$4)&"*"),0)+IF(jisa調査検索!$B$4>0,COUNTIF($A7,"*"&ASC(jisa調査検索!$B$4)&"*"),0) -> 0 | J7: =IF(COUNTA(jisa調査検索!$B$2:$B$4)=0,0,IF(COUNTIF(G7:I7,">0")>=COUNTA(jisa調査検索!$B$2:$B$4),1,0)) -> 0 | K7: =IF(J7>0,COUNTIF($J$2:J7,1),"")
A8: 本社所在地別回答状況 資本系列別回答状況 資本金規模別回答状況 売上高規模別回答状況 従業員規模別回答状況 改正高齢法への対応 年俸制度の有無 賃上げ率の分布 賃上げ額の分布 賃上げ率と賃上げ額の分布 平均年齢と賃上げ率の分布 平均年齢と賃上げ額の分布 ITエンジニア初任給 ITエンジニア初任給の分布 ITエンジニア初年度賞与 ITエンジニア初年度賞与の分布 「25歳」 実在者賃金 (月例／年間賞与) 「30歳」 実在者賃金 (月例／年間賞与) 「35歳」 実在者賃金 (月例／年間賞与) 「40歳」 実在者賃金 (月例／年間賞与) 「45歳」 実在者賃金 (月例／年間賞与) 「50歳」 実在者賃金 (月例／年間賞与) 「55歳」 実在者賃金 (月例／年間賞与) 「独立系」 実在者賃金 (月例／年間賞与) 「コンピュータメーカー系」 実在者賃金 (月例／年間賞与) 「ユーザー系」 実在者賃金 (月例／年間賞与) 「首都圏」 実在者賃金給与 (月例／年間賞与) 「名京阪神」 実在者賃金 (月例／年間賞与) 「首都圏以外」 実在者賃金 (月例／年間賞与) 一般社員／管理職別 平均年間賞与 一般社員／平均年間賞与の分布 一般社員／平均年齢と平均勤続年数の分布 一般社員／平均年齢と平均年間賞与の分布 管理職／平均年間賞与の分布 管理職／平均年齢と平均勤続年数の分布 管理職／平均年齢と平均年間賞与の分布 資格手当支給規程の有無と支給実績 資格手当支給規程の有無 (割合) 資格手当支給対象者(実績) (グラフ) 資格手当支給規程の有無 (グラフ) 資格手当の平均値 (表) 資格手当の平均値 (グラフ) 「一時金のみ支給」の企業割合と平均支給額 「月額加算のみ」の企業割合と平均支給額 ITコーディネータ システム監査技術者 ＩＴストラテジスト システムアーキテクト プロジェクトマネージャ ネットワークスペシャリスト データベーススペシャリスト エンベデッドシステムスペシャリスト 情報処理安全確保支援士/情報セキュリティスペシャリスト ITサービスマネージャ 応用情報技術者 基本情報技術者 ITパスポート 情報セキュリティマネジメント 技術士 中小企業診断士 電気通信主任技術者 電気通信の工事担任者(AIDD総合種) 電気通信の工事担任者(AI/DD 一種) 電気通信の工事担任者(AI/DD 二種) 電気通信の工事担任者(AI/DD 三種) | B8: 令和2年度情報サービス産業 賃金データ | C8: 2021/1- | D8: 報告書R2-J003 | E8: 資料販売のみ | F8: https://www.jisa.or.jp/publication/tabid/272/pdid/R2-J003/Default.aspx | G8: =IF(jisa調査検索!$B$2>0,COUNTIF($A8,"*"&DBCS(jisa調査検索!$B$2)&"*"),0)+IF(jisa調査検索!$B$2>0,COUNTIF($A8,"*"&ASC(jisa調査検索!$B$2)&"*"),0) -> 0 | H8: =IF(jisa調査検索!$B$3>0,COUNTIF($A8,"*"&DBCS(jisa調査検索!$B$3)&"*"),0)+IF(jisa調査検索!$B$3>0,COUNTIF($A8,"*"&ASC(jisa調査検索!$B$3)&"*"),0) -> 0 | I8: =IF(jisa調査検索!$B$4>0,COUNTIF($A8,"*"&DBCS(jisa調査検索!$B$4)&"*"),0)+IF(jisa調査検索!$B$4>0,COUNTIF($A8,"*"&ASC(jisa調査検索!$B$4)&"*"),0) -> 0 | J8: =IF(COUNTA(jisa調査検索!$B$2:$B$4)=0,0,IF(COUNTIF(G8:I8,">0")>=COUNTA(jisa調査検索!$B$2:$B$4),1,0)) -> 0 | K8: =IF(J8>0,COUNTIF($J$2:J8,1),"")
A9: 本社所在地別分布 設立時期別分布 資本金規模別分布 従業員規模別分布 売上高規模別分布 資本系列別構成 主たる営業地域別構成 主たる業務別構成 業務別売上高構成･ 取引先別売上高構成 顧客のDXに関わる売上高比率･ 海外売上高比率 売上高成長率 売上高成長率（次年度見込み） 売上高人件費率 売上高外注費率 売上高材料費率 売上高経費率 売上高営業利益率 売上高経常利益率 売上高設備投資率・情報化投資率･ 売上高研究開発投資率 売上高教育投資率 就業状況 従業員構成(男女比) ITエンジニア(男女比) 管理職(男女比) 労働時間(所定内・所定外(残業時間)等) 有給休暇 25歳30歳35歳給与・賞与 外国人従業員数 60～64歳の従業員数 65歳以上の従業員数 身体障がい者の従業員数 知的・精神障がい者の従業員数 テレワーク実施企業比率 テレワーク実施人数比率 テレワーク実施日数平均 新規採用人数(男女比)・初任有 中途採用 退職状況 新規採用における10年後定着率 海外子会社の保有状況 サービス業態別クロス集計 資本系列別クロス集計 主たる営業地域別クロス集計 従業員規模別クロス集計 ･ 売上高の分布 従業員数の分布 従業員1人あたりの売上高の分布 ･ 売上高成長率の分布 売上高人件費率の分布 売上高営業利益率の分布 30歳平均年収の分布 平均年齢(男女比) | B9: 2020年版情報サービス産業 基本統計調査 | C9: 2020/7- | D9: 報告書R2-J002 | E9: 一般公開 | F9: https://www.jisa.or.jp/publication/tabid/272/pdid/R2-J002/Default.aspx | G9: =IF(jisa調査検索!$B$2>0,COUNTIF($A9,"*"&DBCS(jisa調査検索!$B$2)&"*"),0)+IF(jisa調査検索!$B$2>0,COUNTIF($A9,"*"&ASC(jisa調査検索!$B$2)&"*"),0) -> 0 | H9: =IF(jisa調査検索!$B$3>0,COUNTIF($A9,"*"&DBCS(jisa調査検索!$B$3)&"*"),0)+IF(jisa調査検索!$B$3>0,COUNTIF($A9,"*"&ASC(jisa調査検索!$B$3)&"*"),0) -> 0 | I9: =IF(jisa調査検索!$B$4>0,COUNTIF($A9,"*"&DBCS(jisa調査検索!$B$4)&"*"),0)+IF(jisa調査検索!$B$4>0,COUNTIF($A9,"*"&ASC(jisa調査検索!$B$4)&"*"),0) -> 0 | J9: =IF(COUNTA(jisa調査検索!$B$2:$B$4)=0,0,IF(COUNTIF(G9:I9,">0")>=COUNTA(jisa調査検索!$B$2:$B$4),1,0)) -> 0 | K9: =IF(J9>0,COUNTIF($J$2:J9,1),"")
A10: あなたは現在担当している業務・プロジェクトに対して、どの程度の「楽しさ」を感じていますか（一つだけ） 現在担当している業務・プロジェクトに感じている「楽しさ」ワクワク あなたは現在担当している業務・プロジェクトに対して、どの程度の「やる気」を感じていますか（一つだけ） 現在担当している業務・プロジェクトに感じている「やる気」 あなたは現在担当している業務・プロジェクトに対して、どの程度の「やりがい」を感じていますか（一つだけ） 現在担当している業務・プロジェクトに感じている「やりがい」 あなたは現在担当している業務・プロジェクトで、下表の（ア）～（セ）の各項目はどの程度当てはまりますか。以下の①～④の選択肢から該当する番号を一つずつ選び、回答欄に番号を記入してください。 現在担当している業務・プロジェクト あなたが担当していた業務・プロジェクトに対して、どの程度の「楽しさ」を感じていましたか（一つだけ） コロナ禍以前に担当していた業務・プロジェクトに感じていた「楽しさ」 あなたが担当していた業務・プロジェクトに対して、どの程度の「やる気」を感じていましたか（一つだけ） コロナ禍以前に担当していた業務・プロジェクトに感じていた「やる気」 あなたが担当していた業務・プロジェクトに対して、どの程度の「やりがい」を感じていましたか（一つだけ） コロナ禍以前に担当していた業務・プロジェクトに感じていた「やりがい」 あなたが担当していた業務・プロジェクトに、下表の（ア）～（セ）の各項目はどの程度当てはまりましたか。以下の①～④の選択肢から該当する番号を一つずつ選び、回答欄に番号を記入してください。 コロナ禍以前に担当していた業務・プロジェクト あなたの職場における働き方改革についてお伺いします。「現在の状況」と「2020年1月（コロナ禍前）の状況」を比較し、状況の変化を意識しながらお答えください。下表の「働き方改革」の取組に関する（ア）～（サ）の各項目のA）現在の状況欄とB)コロナ禍前の状況欄に、以下の①～④の選択肢から該当する番号を一つ選び、回答欄に番号を記入してください。 職場における働き方改革の「現在の状況」と「2020年1月（コロナ禍前）の状況」 あなたの2020年11月の残業時間を以下より一つだけお選びください 2020年11月の残業時間 あなたの2020年11月の残業時間をコロナ禍前の2019年11月と較べてどうでしたか。以下より一つだけお選びください 2020年11月の残業時間とコロナ禍前の2019年11月との比較 問12．2020年のあなたの年次有給休暇付与日数に対する取得状況を以下より一つだけお選びください 2020年の年次有給休暇付与日数に対する取得状況 あなたが主に働いている場所に関して、（ア）～（ウ）それぞれの時期で該当する番号を以下の①～⑤の選択肢から一つ選び回答欄に記入してください 主に働いている場所 現在及び2020年1月（コロナ禍前）のテレワークの状況についてお伺いします。現在あるいはコロナ禍前テレワークを行っていない場合は、その設問への解答は不要です。 テレワークの状況（場所、頻度） テレワークで困っていることについてお伺いします。（ア）～（ク）の各項目について、現在困っている場合はA）欄に、コロナ禍前に困っていた場合はB)欄に、それぞれ○を記入してください。（いくつでも） テレワークで困っていること（現在、コロナ禍前） テレワーク時のそれぞれの仕事関係者とのコミュニケーション状況について、以下の①～④の選択肢から該当するものを一つ選び、回答欄にご記入ください テレワーク時の仕事関係者とのコミュニケーション状況 コロナ禍が収まった後、貴方はテレワークについてどのような希望を持っていますか(一つだけ）。 コロナ禍が収まった後のテレワークについての希望 あなたの会社、職場そして担当業務・プロジェクト（以下PJ）の状況についてお伺いします。「現在の状況」と「2020年1月（コロナ禍前）の状況」を比較し、状況の変化を意識しながらお答えください。下表の（ア）～（フ）の各項目のA）現在の状況欄とB)コロナ禍前の状況欄に、以下の①～④の選択肢から該当する番号を一つずつ選び、回答欄に番号を記入してください。 会社、職場そして担当業務・プロジェクト（以下PJ）の状況（現在、コロナ禍前） コロナウイルスに対する感じ方は、現在と2020年4月～5月の緊急事態宣言期間中とでは変わりましたか。下表の（ア）～（オ）の各項目のA) 現在欄及びB)緊急事態宣言期間中欄に、以下の①～④の選択肢から該当する番号を一つ選び、回答欄にご記入ください コロナウイルスに対する感じ方（現在、緊急事態宣言企画中） コロナによって社会環境も生活環境も、そして職場環境も大きく変わったと思います。そのような大きな変化の中で、貴方が取り組んでいる仕事において、ご自分の生産性はコロナ禍前と較べ、どのように変わったと認識されていますか。以下の選択肢から回答ください(一つだけ）。 コロナ禍前と比べた自分の生産性の変化 コロナ禍における生き方・感じ方・考え方の変化についてお聞かせください(任意、自由記述) コロナ禍における生き方・感じ方・考え方の変化 あなたの性別をお選びください（一つだけ） 性別 あなたの年齢をご記入ください（満年齢、2020年12月1日現在） 年齢 あなたの婚姻状況をお選びください（一つだけ） 婚姻状況 あなたの子どもの有無をお選びください（一つだけ） 子どもの有無 あなたの介護家族の有無をお選びください（一つだけ） 介護家族の有無 あなたの最終学歴（最後に卒業・修了した学校、あるいは相当する学歴）をお選びください（一つだけ） 最終学歴 あなたの最終学歴時の専攻として最も近いものを選びください（一つだけ） 専攻 あなたの自社での勤続年数（現時点）をご記入ください。 勤続年数 現在までのITエンジニアとしての経験年数（前職含む）をご記入ください ITエンジニアとしての経験年数（前職含む） あなたの勤務形態をお選びください（一つだけ） 勤務形態 あなたの雇用形態をお選びください（一つだけ） 雇用形態 あなたの職位をお選びください（一つだけ） 職位 あなたが現在担当している業務をお選びください。複数担当の場合は、投入時間の多いものから順に2つ選択し、それぞれ○を記入してください。 担当業務 あなたの職務関連能力（ITスキル標準のレベル：IPAのITスキル標準を参考）をお選びください（一つだけ） 職務関連能力（ITスキル標準のレベル） 今年１年間（2020年 1～12 月を目安に）のあなたご自身の年収税込み額をお答えください 年収 あなたは、デジタルトランスフォーメーション（DX）についてどのように考えていますか。以下の選択肢からあてはまるものを一つ選んでください。 デジタルトランスフォーメーション（DX）に関係する業務・プロジェクトへの参加希望 あなたは会社についてどのように考えていますか。下表の（ア）～（オ）の各項目の回答欄に、以下の①～④の選択肢から該当する番号を一つ選び、回答欄にご記入ください 会社に対する考え （ア）から （コ）までのことばがあなた自身にどのくらい当てはまるかについて、下の枠内の①～⑦までの数字のうちもっとも適切なものに○をお付けください。文章全体を総合的に見て、自分にどれだけ当てはまるかを評価してください。 自分の性格 「現時点」「緊急事態宣言時（2020年4月）」「コロナ禍前（2020年1月）」の3つの時期（1ヶ月単位を想定）において、それぞれどのような状況だったのか、下表の（ア）～（コ）の各項目の回答欄に、以下の①～④の選択肢から該当する番号を一つ選び、回答欄にご記入ください 自分の働き方改革,ワクワク,コロナ 状況（「現時点」「緊急事態宣言時（2020年4月）」「コロナ禍前（2020年1月）」） | B10: ITエンジニアの働き方に関する調査報告書 ～働き方改革進展やコロナウイルス感染拡大がワクワク感や生産性に与える影響～ | C10: 2020/12- | D10: 報告書R2-J009 | E10: 資料販売のみ | F10: https://www.jisa.or.jp/publication/tabid/272/pdid/R2-J009/Default.aspx | G10: =IF(jisa調査検索!$B$2>0,COUNTIF($A10,"*"&DBCS(jisa調査検索!$B$2)&"*"),0)+IF(jisa調査検索!$B$2>0,COUNTIF($A10,"*"&ASC(jisa調査検索!$B$2)&"*"),0) -> 0 | H10: =IF(jisa調査検索!$B$3>0,COUNTIF($A10,"*"&DBCS(jisa調査検索!$B$3)&"*"),0)+IF(jisa調査検索!$B$3>0,COUNTIF($A10,"*"&ASC(jisa調査検索!$B$3)&"*"),0) -> 0 | I10: =IF(jisa調査検索!$B$4>0,COUNTIF($A10,"*"&DBCS(jisa調査検索!$B$4)&"*"),0)+IF(jisa調査検索!$B$4>0,COUNTIF($A10,"*"&ASC(jisa調査検索!$B$4)&"*"),0) -> 0 | J10: =IF(COUNTA(jisa調査検索!$B$2:$B$4)=0,0,IF(COUNTIF(G10:I10,">0")>=COUNTA(jisa調査検索!$B$2:$B$4),1,0)) -> 0 | K10: =IF(J10>0,COUNTIF($J$2:J10,1),"")
